Package: terraTCGAdata Version: 1.13.0 Command: /Library/Frameworks/R.framework/Resources/bin/R CMD build --keep-empty-dirs --no-resave-data terraTCGAdata StartedAt: 2025-10-13 19:40:49 -0400 (Mon, 13 Oct 2025) EndedAt: 2025-10-13 19:41:34 -0400 (Mon, 13 Oct 2025) EllapsedTime: 45.7 seconds RetCode: 0 Status: OK PackageFile: terraTCGAdata_1.13.0.tar.gz PackageFileSize: 234.2 KiB