Package: terraTCGAdata Version: 1.13.0 Command: rm -rf terraTCGAdata.buildbin-libdir && mkdir terraTCGAdata.buildbin-libdir && /Users/biocbuild/BBS/utils/build-universal.sh terraTCGAdata_1.13.0.tar.gz /Library/Frameworks/R.framework/Resources/bin/R terraTCGAdata.buildbin-libdir StartedAt: 2025-10-14 03:12:39 -0400 (Tue, 14 Oct 2025) EndedAt: 2025-10-14 03:13:17 -0400 (Tue, 14 Oct 2025) EllapsedTime: 38.4 seconds RetCode: 0 Status: OK PackageFile: terraTCGAdata_1.13.0.tgz PackageFileSize: 272.7 KiB