Package: terraTCGAdata Version: 1.15.0 Maintainer: Marcel Ramos MaintainerEmail: marcel.ramos at sph.cuny.edu git_url: https://git.bioconductor.org/packages/terraTCGAdata git_branch: devel git_last_commit: 752f735 git_last_commit_date: 2025-10-29 11:16:25 -0400 (Wed, 29 Oct 2025)