Package: ternarynet Version: 1.55.0 Command: /home/biocbuild/bbs-3.23-bioc/R/bin/R CMD INSTALL ternarynet StartedAt: 2025-11-07 15:05:40 -0500 (Fri, 07 Nov 2025) EndedAt: 2025-11-07 15:06:03 -0500 (Fri, 07 Nov 2025) EllapsedTime: 22.7 seconds RetCode: 0 Status: OK