Package: ternarynet Version: 1.55.0 Command: /home/biocbuild/bbs-3.23-bioc/R/bin/R CMD build --keep-empty-dirs --no-resave-data ternarynet StartedAt: 2025-11-07 20:25:22 -0500 (Fri, 07 Nov 2025) EndedAt: 2025-11-07 20:25:35 -0500 (Fri, 07 Nov 2025) EllapsedTime: 12.0 seconds RetCode: 0 Status: OK PackageFile: ternarynet_1.55.0.tar.gz PackageFileSize: 269.4 KiB