Package: tenXplore Version: 1.31.0 Command: /home/biocbuild/bbs-3.22-bioc/R/bin/R CMD INSTALL tenXplore StartedAt: 2025-10-17 15:35:27 -0400 (Fri, 17 Oct 2025) EndedAt: 2025-10-17 15:35:59 -0400 (Fri, 17 Oct 2025) EllapsedTime: 31.7 seconds RetCode: 0 Status: OK