Package: target Version: 1.25.0 Command: /home/biocbuild/bbs-3.23-bioc/R/bin/R CMD build --keep-empty-dirs --no-resave-data target StartedAt: 2025-11-20 20:28:19 -0500 (Thu, 20 Nov 2025) EndedAt: 2025-11-20 20:29:00 -0500 (Thu, 20 Nov 2025) EllapsedTime: 41.1 seconds RetCode: 0 Status: OK PackageFile: target_1.25.0.tar.gz PackageFileSize: 3.099 MiB