Package: target Version: 1.25.0 Command: /Library/Frameworks/R.framework/Resources/bin/R CMD INSTALL target StartedAt: 2025-11-20 15:22:03 -0500 (Thu, 20 Nov 2025) EndedAt: 2025-11-20 15:22:17 -0500 (Thu, 20 Nov 2025) EllapsedTime: 13.3 seconds RetCode: 0 Status: OK