Package: target Version: 1.25.0 Command: rm -rf target.buildbin-libdir && mkdir target.buildbin-libdir && /Users/biocbuild/BBS/utils/build-universal.sh target_1.25.0.tar.gz /Library/Frameworks/R.framework/Resources/bin/R target.buildbin-libdir StartedAt: 2025-11-21 02:01:07 -0500 (Fri, 21 Nov 2025) EndedAt: 2025-11-21 02:01:25 -0500 (Fri, 21 Nov 2025) EllapsedTime: 18.4 seconds RetCode: 0 Status: OK PackageFile: target_1.25.0.tgz PackageFileSize: 3.305 MiB