Package: target Version: 1.23.1 Command: /Library/Frameworks/R.framework/Resources/bin/R CMD build --keep-empty-dirs --no-resave-data target StartedAt: 2025-10-17 17:59:02 -0400 (Fri, 17 Oct 2025) EndedAt: 2025-10-17 17:59:23 -0400 (Fri, 17 Oct 2025) EllapsedTime: 21.3 seconds RetCode: 0 Status: OK PackageFile: target_1.23.1.tar.gz PackageFileSize: 3.082 MiB