Package: tanggle Version: 1.15.3 Command: /home/biocbuild/R/R/bin/R CMD INSTALL tanggle StartedAt: 2025-10-23 20:28:39 -0000 (Thu, 23 Oct 2025) EndedAt: 2025-10-23 20:29:05 -0000 (Thu, 23 Oct 2025) EllapsedTime: 25.5 seconds RetCode: 0 Status: OK