Package: tanggle Version: 1.15.2 Command: /home/biocbuild/R/R/bin/R CMD build --keep-empty-dirs --no-resave-data tanggle StartedAt: 2025-10-21 03:39:06 -0000 (Tue, 21 Oct 2025) EndedAt: 2025-10-21 03:39:43 -0000 (Tue, 21 Oct 2025) EllapsedTime: 37.0 seconds RetCode: 0 Status: OK PackageFile: tanggle_1.15.2.tar.gz PackageFileSize: 1.425 MiB