Package: tanggle Version: 1.17.0 Command: /home/biocbuild/bbs-3.23-bioc/R/bin/R CMD check --install=check:tanggle.install-out.txt --library=/home/biocbuild/bbs-3.23-bioc/R/site-library --timings tanggle_1.17.0.tar.gz StartedAt: 2025-11-26 04:47:40 -0500 (Wed, 26 Nov 2025) EndedAt: 2025-11-26 04:48:51 -0500 (Wed, 26 Nov 2025) EllapsedTime: 71.1 seconds RetCode: 0 Status: OK CheckDir: tanggle.Rcheck Warnings: 0