Package: tanggle Version: 1.17.0 Command: /home/biocbuild/bbs-3.23-bioc/R/bin/R CMD build --keep-empty-dirs --no-resave-data tanggle StartedAt: 2025-11-21 20:27:09 -0500 (Fri, 21 Nov 2025) EndedAt: 2025-11-21 20:27:32 -0500 (Fri, 21 Nov 2025) EllapsedTime: 23.0 seconds RetCode: 0 Status: OK PackageFile: tanggle_1.17.0.tar.gz PackageFileSize: 2.069 MiB