Package: tadar Version: 1.9.0 Command: /home/biocbuild/bbs-3.23-bioc/R/bin/R CMD INSTALL tadar StartedAt: 2025-11-20 15:47:54 -0500 (Thu, 20 Nov 2025) EndedAt: 2025-11-20 15:48:45 -0500 (Thu, 20 Nov 2025) EllapsedTime: 50.7 seconds RetCode: 0 Status: OK