Package: tadar Version: 1.9.0 Command: /home/biocbuild/bbs-3.23-bioc/R/bin/R CMD build --keep-empty-dirs --no-resave-data tadar StartedAt: 2025-11-18 21:16:57 -0500 (Tue, 18 Nov 2025) EndedAt: 2025-11-18 21:18:25 -0500 (Tue, 18 Nov 2025) EllapsedTime: 88.1 seconds RetCode: 0 Status: OK PackageFile: tadar_1.9.0.tar.gz PackageFileSize: 1.687 MiB