Package: tRanslatome Version: 1.47.0 Command: /home/biocbuild/bbs-3.22-bioc/R/bin/R CMD INSTALL tRanslatome StartedAt: 2025-10-10 15:52:37 -0400 (Fri, 10 Oct 2025) EndedAt: 2025-10-10 15:53:21 -0400 (Fri, 10 Oct 2025) EllapsedTime: 43.9 seconds RetCode: 0 Status: OK