Package: tRNAscanImport Version: 1.29.1 Command: /home/biocbuild/R/R/bin/R CMD INSTALL tRNAscanImport StartedAt: 2025-10-13 21:22:30 -0000 (Mon, 13 Oct 2025) EndedAt: 2025-10-13 21:23:13 -0000 (Mon, 13 Oct 2025) EllapsedTime: 43.9 seconds RetCode: 0 Status: OK