Package: tRNAscanImport Version: 1.29.1 Command: /home/biocbuild/R/R/bin/R CMD build --keep-empty-dirs --no-resave-data tRNAscanImport StartedAt: 2025-10-14 04:20:04 -0000 (Tue, 14 Oct 2025) EndedAt: 2025-10-14 04:22:32 -0000 (Tue, 14 Oct 2025) EllapsedTime: 147.0 seconds RetCode: 0 Status: OK PackageFile: tRNAscanImport_1.29.1.tar.gz PackageFileSize: 610.8 KiB