Package: tRNAscanImport Version: 1.29.1 Command: /home/biocbuild/bbs-3.22-bioc/R/bin/R CMD check --install=check:tRNAscanImport.install-out.txt --library=/home/biocbuild/bbs-3.22-bioc/R/site-library --timings tRNAscanImport_1.29.1.tar.gz StartedAt: 2025-10-11 05:29:47 -0400 (Sat, 11 Oct 2025) EndedAt: 2025-10-11 05:35:29 -0400 (Sat, 11 Oct 2025) EllapsedTime: 342.4 seconds RetCode: 0 Status: OK CheckDir: tRNAscanImport.Rcheck Warnings: 0