Package: tRNAscanImport Version: 1.31.0 Command: /home/biocbuild/bbs-3.23-bioc/R/bin/R CMD INSTALL tRNAscanImport StartedAt: 2025-11-03 15:38:24 -0500 (Mon, 03 Nov 2025) EndedAt: 2025-11-03 15:39:01 -0500 (Mon, 03 Nov 2025) EllapsedTime: 36.6 seconds RetCode: 0 Status: OK