Package: tRNAscanImport Version: 1.31.0 Command: /home/biocbuild/bbs-3.23-bioc/R/bin/R CMD check --install=check:tRNAscanImport.install-out.txt --library=/home/biocbuild/bbs-3.23-bioc/R/site-library --timings tRNAscanImport_1.31.0.tar.gz StartedAt: 2025-11-17 05:07:15 -0500 (Mon, 17 Nov 2025) EndedAt: 2025-11-17 05:13:00 -0500 (Mon, 17 Nov 2025) EllapsedTime: 344.5 seconds RetCode: 0 Status: OK CheckDir: tRNAscanImport.Rcheck Warnings: 0