Package: tRNAscanImport Version: 1.31.0 Command: /home/biocbuild/bbs-3.23-bioc/R/bin/R CMD build --keep-empty-dirs --no-resave-data tRNAscanImport StartedAt: 2025-11-02 20:28:32 -0500 (Sun, 02 Nov 2025) EndedAt: 2025-11-02 20:30:12 -0500 (Sun, 02 Nov 2025) EllapsedTime: 100.1 seconds RetCode: 0 Status: OK PackageFile: tRNAscanImport_1.31.0.tar.gz PackageFileSize: 845.1 KiB