Package: tRNAdbImport Version: 1.27.0 Command: /home/biocbuild/R/R/bin/R CMD build --keep-empty-dirs --no-resave-data tRNAdbImport StartedAt: 2025-10-14 04:19:52 -0000 (Tue, 14 Oct 2025) EndedAt: 2025-10-14 04:20:35 -0000 (Tue, 14 Oct 2025) EllapsedTime: 42.0 seconds RetCode: 0 Status: OK PackageFile: tRNAdbImport_1.27.0.tar.gz PackageFileSize: 393.2 KiB