Package: tRNAdbImport Version: 1.27.0 Command: rm -rf tRNAdbImport.buildbin-libdir && mkdir tRNAdbImport.buildbin-libdir && F:\biocbuild\bbs-3.22-bioc\R\bin\R.exe CMD INSTALL --build --library=tRNAdbImport.buildbin-libdir tRNAdbImport_1.27.0.tar.gz StartedAt: 2025-08-15 11:32:33 -0400 (Fri, 15 Aug 2025) EndedAt: 2025-08-15 11:33:37 -0400 (Fri, 15 Aug 2025) EllapsedTime: 63.4 seconds RetCode: 0 Status: OK PackageFile: tRNAdbImport_1.27.0.zip PackageFileSize: 381.1 KiB