Package: tRNAdbImport Version: 1.27.0 Command: /home/biocbuild/bbs-3.22-bioc/R/bin/R CMD check --install=check:tRNAdbImport.install-out.txt --library=/home/biocbuild/bbs-3.22-bioc/R/site-library --timings tRNAdbImport_1.27.0.tar.gz StartedAt: 2025-10-11 05:29:11 -0400 (Sat, 11 Oct 2025) EndedAt: 2025-10-11 05:31:07 -0400 (Sat, 11 Oct 2025) EllapsedTime: 116.1 seconds RetCode: 0 Status: OK CheckDir: tRNAdbImport.Rcheck Warnings: 0