Package: tRNAdbImport Version: 1.29.0 Command: /home/biocbuild/bbs-3.23-bioc/R/bin/R CMD INSTALL tRNAdbImport StartedAt: 2025-11-05 15:45:44 -0500 (Wed, 05 Nov 2025) EndedAt: 2025-11-05 15:45:59 -0500 (Wed, 05 Nov 2025) EllapsedTime: 15.0 seconds RetCode: 0 Status: OK