Package: tRNAdbImport Version: 1.29.0 Command: /home/biocbuild/bbs-3.23-bioc/R/bin/R CMD check --install=check:tRNAdbImport.install-out.txt --library=/home/biocbuild/bbs-3.23-bioc/R/site-library --timings tRNAdbImport_1.29.0.tar.gz StartedAt: 2025-11-15 05:08:02 -0500 (Sat, 15 Nov 2025) EndedAt: 2025-11-15 05:10:01 -0500 (Sat, 15 Nov 2025) EllapsedTime: 119.1 seconds RetCode: 0 Status: OK CheckDir: tRNAdbImport.Rcheck Warnings: 0