Package: tRNAdbImport Version: 1.29.0 Command: /home/biocbuild/bbs-3.23-bioc/R/bin/R CMD build --keep-empty-dirs --no-resave-data tRNAdbImport StartedAt: 2025-11-05 20:37:03 -0500 (Wed, 05 Nov 2025) EndedAt: 2025-11-05 20:37:33 -0500 (Wed, 05 Nov 2025) EllapsedTime: 30.0 seconds RetCode: 0 Status: OK PackageFile: tRNAdbImport_1.29.0.tar.gz PackageFileSize: 322 KiB