Package: tRNA Version: 1.27.1 Command: /Library/Frameworks/R.framework/Resources/bin/R CMD INSTALL tRNA StartedAt: 2025-10-12 15:34:24 -0400 (Sun, 12 Oct 2025) EndedAt: 2025-10-12 15:34:47 -0400 (Sun, 12 Oct 2025) EllapsedTime: 23.1 seconds RetCode: 0 Status: OK