Package: tRNA Version: 1.27.1 Command: /Library/Frameworks/R.framework/Resources/bin/R CMD build --keep-empty-dirs --no-resave-data tRNA StartedAt: 2025-10-10 19:37:01 -0400 (Fri, 10 Oct 2025) EndedAt: 2025-10-10 19:40:01 -0400 (Fri, 10 Oct 2025) EllapsedTime: 180.7 seconds RetCode: 0 Status: OK PackageFile: tRNA_1.27.1.tar.gz PackageFileSize: 1.299 MiB