Package: tRNA Version: 1.27.1 Command: rm -rf tRNA.buildbin-libdir && mkdir tRNA.buildbin-libdir && /Users/biocbuild/BBS/utils/build-universal.sh tRNA_1.27.1.tar.gz /Library/Frameworks/R.framework/Resources/bin/R tRNA.buildbin-libdir StartedAt: 2025-10-13 03:02:35 -0400 (Mon, 13 Oct 2025) EndedAt: 2025-10-13 03:03:01 -0400 (Mon, 13 Oct 2025) EllapsedTime: 25.5 seconds RetCode: 0 Status: OK PackageFile: tRNA_1.27.1.tgz PackageFileSize: 1.469 MiB