Package: tRNA Version: 1.27.1 Maintainer: Felix GM Ernst MaintainerEmail: felix.gm.ernst at outlook.com git_url: https://git.bioconductor.org/packages/tRNA git_branch: devel git_last_commit: 0529013 git_last_commit_date: 2025-09-23 06:45:15 -0400 (Tue, 23 Sep 2025)