Package: tLOH Version: 1.19.0 Command: /home/biocbuild/bbs-3.23-bioc/R/bin/R CMD INSTALL tLOH StartedAt: 2025-11-14 15:43:05 -0500 (Fri, 14 Nov 2025) EndedAt: 2025-11-14 15:43:51 -0500 (Fri, 14 Nov 2025) EllapsedTime: 46.3 seconds RetCode: 0 Status: OK