Package: tLOH Version: 1.19.0 Command: /home/biocbuild/bbs-3.23-bioc/R/bin/R CMD build --keep-empty-dirs --no-resave-data tLOH StartedAt: 2025-11-14 20:32:03 -0500 (Fri, 14 Nov 2025) EndedAt: 2025-11-14 20:33:16 -0500 (Fri, 14 Nov 2025) EllapsedTime: 73.1 seconds RetCode: 0 Status: OK PackageFile: tLOH_1.19.0.tar.gz PackageFileSize: 2.262 MiB