Package: systemPipeTools Version: 1.17.0 Command: /home/biocbuild/R/R/bin/R CMD check --install=check:systemPipeTools.install-out.txt --library=/home/biocbuild/R/R/site-library --no-vignettes --timings systemPipeTools_1.17.0.tar.gz StartedAt: 2025-10-17 14:20:48 -0000 (Fri, 17 Oct 2025) EndedAt: 2025-10-17 14:27:02 -0000 (Fri, 17 Oct 2025) EllapsedTime: 373.8 seconds RetCode: 0 Status: WARNINGS CheckDir: systemPipeTools.Rcheck Warnings: 1