Package: systemPipeTools Version: 1.19.0 Command: /home/biocbuild/bbs-3.23-bioc/R/bin/R CMD INSTALL systemPipeTools StartedAt: 2025-11-20 15:21:05 -0500 (Thu, 20 Nov 2025) EndedAt: 2025-11-20 15:21:30 -0500 (Thu, 20 Nov 2025) EllapsedTime: 25.6 seconds RetCode: 0 Status: OK