Package: systemPipeTools Version: 1.19.0 Command: /home/biocbuild/bbs-3.23-bioc/R/bin/R CMD check --install=check:systemPipeTools.install-out.txt --library=/home/biocbuild/bbs-3.23-bioc/R/site-library --timings systemPipeTools_1.19.0.tar.gz StartedAt: 2025-11-21 04:41:52 -0500 (Fri, 21 Nov 2025) EndedAt: 2025-11-21 04:46:43 -0500 (Fri, 21 Nov 2025) EllapsedTime: 290.4 seconds RetCode: 0 Status: WARNINGS CheckDir: systemPipeTools.Rcheck Warnings: 1