Package: systemPipeTools Version: 1.17.0 Command: /Library/Frameworks/R.framework/Resources/bin/R CMD check --install=check:systemPipeTools.install-out.txt --library=/Library/Frameworks/R.framework/Resources/library --no-vignettes --timings systemPipeTools_1.17.0.tar.gz StartedAt: 2025-10-16 01:56:07 -0400 (Thu, 16 Oct 2025) EndedAt: 2025-10-16 02:01:27 -0400 (Thu, 16 Oct 2025) EllapsedTime: 320.5 seconds RetCode: 0 Status: WARNINGS CheckDir: systemPipeTools.Rcheck Warnings: 1