Package: systemPipeShiny Version: 1.19.1 Command: F:\biocbuild\bbs-3.22-bioc\R\bin\R.exe CMD INSTALL systemPipeShiny StartedAt: 2025-08-14 15:28:58 -0400 (Thu, 14 Aug 2025) EndedAt: 2025-08-14 15:30:36 -0400 (Thu, 14 Aug 2025) EllapsedTime: 97.9 seconds RetCode: 0 Status: OK