Package: systemPipeShiny Version: 1.19.1 Command: chmod a+r systemPipeShiny -R && F:\biocbuild\bbs-3.22-bioc\R\bin\R.exe CMD build --keep-empty-dirs --no-resave-data systemPipeShiny StartedAt: 2025-08-14 23:41:07 -0400 (Thu, 14 Aug 2025) EndedAt: 2025-08-14 23:42:11 -0400 (Thu, 14 Aug 2025) EllapsedTime: 63.6 seconds RetCode: 0 Status: OK PackageFile: systemPipeShiny_1.19.1.tar.gz PackageFileSize: 4.308 MiB