Package: systemPipeShiny Version: 1.21.0 Command: /home/biocbuild/bbs-3.23-bioc/R/bin/R CMD check --install=check:systemPipeShiny.install-out.txt --library=/home/biocbuild/bbs-3.23-bioc/R/site-library --timings systemPipeShiny_1.21.0.tar.gz StartedAt: 2025-11-01 04:12:21 -0400 (Sat, 01 Nov 2025) EndedAt: 2025-11-01 04:14:09 -0400 (Sat, 01 Nov 2025) EllapsedTime: 108.1 seconds RetCode: 0 Status: OK CheckDir: systemPipeShiny.Rcheck Warnings: 0