Package: systemPipeR Version: 2.17.0 Command: /home/biocbuild/bbs-3.23-bioc/R/bin/R CMD INSTALL systemPipeR StartedAt: 2025-11-05 15:58:06 -0500 (Wed, 05 Nov 2025) EndedAt: 2025-11-05 15:58:52 -0500 (Wed, 05 Nov 2025) EllapsedTime: 46.0 seconds RetCode: 0 Status: OK