Package: systemPipeR Version: 2.17.0 Command: /home/biocbuild/bbs-3.23-bioc/R/bin/R CMD check --install=check:systemPipeR.install-out.txt --library=/home/biocbuild/bbs-3.23-bioc/R/site-library --timings systemPipeR_2.17.0.tar.gz StartedAt: 2025-11-06 04:35:53 -0500 (Thu, 06 Nov 2025) EndedAt: 2025-11-06 04:42:17 -0500 (Thu, 06 Nov 2025) EllapsedTime: 383.6 seconds RetCode: 0 Status: OK CheckDir: systemPipeR.Rcheck Warnings: 0