Package: systemPipeR Version: 2.15.2 Command: /Library/Frameworks/R.framework/Resources/bin/R CMD INSTALL systemPipeR StartedAt: 2025-10-12 15:43:33 -0400 (Sun, 12 Oct 2025) EndedAt: 2025-10-12 15:44:39 -0400 (Sun, 12 Oct 2025) EllapsedTime: 66.2 seconds RetCode: 0 Status: OK