Package: systemPipeR Version: 2.15.2 Command: /Library/Frameworks/R.framework/Resources/bin/R CMD build --keep-empty-dirs --no-resave-data systemPipeR StartedAt: 2025-10-12 19:32:03 -0400 (Sun, 12 Oct 2025) EndedAt: 2025-10-12 19:33:59 -0400 (Sun, 12 Oct 2025) EllapsedTime: 115.5 seconds RetCode: 0 Status: OK PackageFile: systemPipeR_2.15.2.tar.gz PackageFileSize: 6.497 MiB