Package: systemPipeR Version: 2.15.2 Command: rm -rf systemPipeR.buildbin-libdir && mkdir systemPipeR.buildbin-libdir && /Users/biocbuild/BBS/utils/build-universal.sh systemPipeR_2.15.2.tar.gz /Library/Frameworks/R.framework/Resources/bin/R systemPipeR.buildbin-libdir StartedAt: 2025-10-13 03:00:58 -0400 (Mon, 13 Oct 2025) EndedAt: 2025-10-13 03:02:08 -0400 (Mon, 13 Oct 2025) EllapsedTime: 70.9 seconds RetCode: 0 Status: OK PackageFile: systemPipeR_2.15.2.tgz PackageFileSize: 6.285 MiB