Package: systemPipeR Version: 2.15.2 Command: /Library/Frameworks/R.framework/Resources/bin/R CMD check --install=check:systemPipeR.install-out.txt --library=/Library/Frameworks/R.framework/Resources/library --no-vignettes --timings systemPipeR_2.15.2.tar.gz StartedAt: 2025-10-26 22:03:34 -0400 (Sun, 26 Oct 2025) EndedAt: 2025-10-26 22:05:45 -0400 (Sun, 26 Oct 2025) EllapsedTime: 130.6 seconds RetCode: 0 Status: OK CheckDir: systemPipeR.Rcheck Warnings: 0