Package: syntenet Version: 1.11.2 Command: /home/biocbuild/R/R/bin/R CMD INSTALL syntenet StartedAt: 2025-10-13 20:50:59 -0000 (Mon, 13 Oct 2025) EndedAt: 2025-10-13 20:51:57 -0000 (Mon, 13 Oct 2025) EllapsedTime: 57.8 seconds RetCode: 0 Status: OK