Package: syntenet Version: 1.11.2 Command: /home/biocbuild/R/R/bin/R CMD build --keep-empty-dirs --no-resave-data syntenet StartedAt: 2025-10-14 04:05:26 -0000 (Tue, 14 Oct 2025) EndedAt: 2025-10-14 04:07:19 -0000 (Tue, 14 Oct 2025) EllapsedTime: 113.0 seconds RetCode: 0 Status: OK PackageFile: syntenet_1.11.2.tar.gz PackageFileSize: 2.696 MiB